BEGIN:VCALENDAR
VERSION:2.0
PRODID:-//Five Points Washington - ECPv6.15.20//NONSGML v1.0//EN
CALSCALE:GREGORIAN
METHOD:PUBLISH
X-WR-CALNAME:Five Points Washington
X-ORIGINAL-URL:https://fivepointswashington.org
X-WR-CALDESC:Events for Five Points Washington
REFRESH-INTERVAL;VALUE=DURATION:PT1H
X-Robots-Tag:noindex
X-PUBLISHED-TTL:PT1H
BEGIN:VTIMEZONE
TZID:America/Chicago
BEGIN:DAYLIGHT
TZOFFSETFROM:-0600
TZOFFSETTO:-0500
TZNAME:CDT
DTSTART:20250309T080000
END:DAYLIGHT
BEGIN:STANDARD
TZOFFSETFROM:-0500
TZOFFSETTO:-0600
TZNAME:CST
DTSTART:20251102T070000
END:STANDARD
BEGIN:DAYLIGHT
TZOFFSETFROM:-0600
TZOFFSETTO:-0500
TZNAME:CDT
DTSTART:20260308T080000
END:DAYLIGHT
BEGIN:STANDARD
TZOFFSETFROM:-0500
TZOFFSETTO:-0600
TZNAME:CST
DTSTART:20261101T070000
END:STANDARD
BEGIN:DAYLIGHT
TZOFFSETFROM:-0600
TZOFFSETTO:-0500
TZNAME:CDT
DTSTART:20270314T080000
END:DAYLIGHT
BEGIN:STANDARD
TZOFFSETFROM:-0500
TZOFFSETTO:-0600
TZNAME:CST
DTSTART:20271107T070000
END:STANDARD
END:VTIMEZONE
BEGIN:VEVENT
DTSTART;TZID=America/Chicago:20260522T180000
DTEND;TZID=America/Chicago:20260522T210000
DTSTAMP:20260421T161306
CREATED:20260420T140130Z
LAST-MODIFIED:20260421T161639Z
UID:10001653-1779472800-1779483600@fivepointswashington.org
SUMMARY:Five Points Fridays
DESCRIPTION:Join us for Five Points Fridays\, our annual summer series bringing the community together for evenings of live music\, local food\, and family-friendly fun. \nMark your calendar and come out to enjoy great entertainment\, connect with friends\, and experience the energy of summer at Five Points. \nAll Ages Welcome. Five Points South End.  Free to Attend. \n2026 Dates:\n• Friday\, May 22\nNext Thing Smoking\nTazewell County Animal Control \n• Saturday\, June 20*\nThe Aristocrats & The Holis7ics\nCommunity Art Fair\n*The June event will be held on Saturday in conjunction with the Community Art Fair. \n• Friday\, July 24\nDexter O’Neal\nTouch-a-Truck \n• Friday\, August 28\nSista and the Misters\nCar Show \n\n\n\n  \nAll Ages Welcome | Five Points South End | Free to Attend \n\n\n\n\nQuestions? Contact Paige Wise\, paigew@fivepointswashington.org or 309-444-8222
URL:https://fivepointswashington.org/event/five-points-fridays/2026-05-22/
LOCATION:Five Points Washington\, 360 N Wilmor Rd\,\, Washington\, IL\, 61571\, United States
ATTACH;FMTTYPE=image/jpeg:https://fivepointswashington.org/wp-content/uploads/2026/04/FPF-2026-Digital-Save-the-Date-1920-x-1080-px.jpg
END:VEVENT
BEGIN:VEVENT
DTSTART;TZID=America/Chicago:20260620T180000
DTEND;TZID=America/Chicago:20260620T210000
DTSTAMP:20260421T161306
CREATED:20260420T140130Z
LAST-MODIFIED:20260421T161639Z
UID:10001654-1781978400-1781989200@fivepointswashington.org
SUMMARY:Five Points Fridays
DESCRIPTION:Join us for Five Points Fridays\, our annual summer series bringing the community together for evenings of live music\, local food\, and family-friendly fun. \nMark your calendar and come out to enjoy great entertainment\, connect with friends\, and experience the energy of summer at Five Points. \nAll Ages Welcome. Five Points South End.  Free to Attend. \n2026 Dates:\n• Friday\, May 22\nNext Thing Smoking\nTazewell County Animal Control \n• Saturday\, June 20*\nThe Aristocrats & The Holis7ics\nCommunity Art Fair\n*The June event will be held on Saturday in conjunction with the Community Art Fair. \n• Friday\, July 24\nDexter O’Neal\nTouch-a-Truck \n• Friday\, August 28\nSista and the Misters\nCar Show \n\n\n\n  \nAll Ages Welcome | Five Points South End | Free to Attend \n\n\n\n\nQuestions? Contact Paige Wise\, paigew@fivepointswashington.org or 309-444-8222
URL:https://fivepointswashington.org/event/five-points-fridays/2026-06-20/
LOCATION:Five Points Washington\, 360 N Wilmor Rd\,\, Washington\, IL\, 61571\, United States
ATTACH;FMTTYPE=image/jpeg:https://fivepointswashington.org/wp-content/uploads/2026/04/FPF-2026-Digital-Save-the-Date-1920-x-1080-px.jpg
END:VEVENT
BEGIN:VEVENT
DTSTART;TZID=America/Chicago:20260724T180000
DTEND;TZID=America/Chicago:20260724T210000
DTSTAMP:20260421T161306
CREATED:20260420T140130Z
LAST-MODIFIED:20260421T161639Z
UID:10001655-1784916000-1784926800@fivepointswashington.org
SUMMARY:Five Points Fridays
DESCRIPTION:Join us for Five Points Fridays\, our annual summer series bringing the community together for evenings of live music\, local food\, and family-friendly fun. \nMark your calendar and come out to enjoy great entertainment\, connect with friends\, and experience the energy of summer at Five Points. \nAll Ages Welcome. Five Points South End.  Free to Attend. \n2026 Dates:\n• Friday\, May 22\nNext Thing Smoking\nTazewell County Animal Control \n• Saturday\, June 20*\nThe Aristocrats & The Holis7ics\nCommunity Art Fair\n*The June event will be held on Saturday in conjunction with the Community Art Fair. \n• Friday\, July 24\nDexter O’Neal\nTouch-a-Truck \n• Friday\, August 28\nSista and the Misters\nCar Show \n\n\n\n  \nAll Ages Welcome | Five Points South End | Free to Attend \n\n\n\n\nQuestions? Contact Paige Wise\, paigew@fivepointswashington.org or 309-444-8222
URL:https://fivepointswashington.org/event/five-points-fridays/2026-07-24/
LOCATION:Five Points Washington\, 360 N Wilmor Rd\,\, Washington\, IL\, 61571\, United States
ATTACH;FMTTYPE=image/jpeg:https://fivepointswashington.org/wp-content/uploads/2026/04/FPF-2026-Digital-Save-the-Date-1920-x-1080-px.jpg
END:VEVENT
BEGIN:VEVENT
DTSTART;TZID=America/Chicago:20260828T180000
DTEND;TZID=America/Chicago:20260828T210000
DTSTAMP:20260421T161306
CREATED:20260420T140130Z
LAST-MODIFIED:20260421T161639Z
UID:10001656-1787940000-1787950800@fivepointswashington.org
SUMMARY:Five Points Fridays
DESCRIPTION:Join us for Five Points Fridays\, our annual summer series bringing the community together for evenings of live music\, local food\, and family-friendly fun. \nMark your calendar and come out to enjoy great entertainment\, connect with friends\, and experience the energy of summer at Five Points. \nAll Ages Welcome. Five Points South End.  Free to Attend. \n2026 Dates:\n• Friday\, May 22\nNext Thing Smoking\nTazewell County Animal Control \n• Saturday\, June 20*\nThe Aristocrats & The Holis7ics\nCommunity Art Fair\n*The June event will be held on Saturday in conjunction with the Community Art Fair. \n• Friday\, July 24\nDexter O’Neal\nTouch-a-Truck \n• Friday\, August 28\nSista and the Misters\nCar Show \n\n\n\n  \nAll Ages Welcome | Five Points South End | Free to Attend \n\n\n\n\nQuestions? Contact Paige Wise\, paigew@fivepointswashington.org or 309-444-8222
URL:https://fivepointswashington.org/event/five-points-fridays/2026-08-28/
LOCATION:Five Points Washington\, 360 N Wilmor Rd\,\, Washington\, IL\, 61571\, United States
ATTACH;FMTTYPE=image/jpeg:https://fivepointswashington.org/wp-content/uploads/2026/04/FPF-2026-Digital-Save-the-Date-1920-x-1080-px.jpg
END:VEVENT
END:VCALENDAR