BEGIN:VCALENDAR
VERSION:2.0
PRODID:-//Five Points Washington - ECPv6.15.20//NONSGML v1.0//EN
CALSCALE:GREGORIAN
METHOD:PUBLISH
X-WR-CALNAME:Five Points Washington
X-ORIGINAL-URL:https://fivepointswashington.org
X-WR-CALDESC:Events for Five Points Washington
REFRESH-INTERVAL;VALUE=DURATION:PT1H
X-Robots-Tag:noindex
X-PUBLISHED-TTL:PT1H
BEGIN:VTIMEZONE
TZID:America/Chicago
BEGIN:DAYLIGHT
TZOFFSETFROM:-0600
TZOFFSETTO:-0500
TZNAME:CDT
DTSTART:20250309T080000
END:DAYLIGHT
BEGIN:STANDARD
TZOFFSETFROM:-0500
TZOFFSETTO:-0600
TZNAME:CST
DTSTART:20251102T070000
END:STANDARD
BEGIN:DAYLIGHT
TZOFFSETFROM:-0600
TZOFFSETTO:-0500
TZNAME:CDT
DTSTART:20260308T080000
END:DAYLIGHT
BEGIN:STANDARD
TZOFFSETFROM:-0500
TZOFFSETTO:-0600
TZNAME:CST
DTSTART:20261101T070000
END:STANDARD
BEGIN:DAYLIGHT
TZOFFSETFROM:-0600
TZOFFSETTO:-0500
TZNAME:CDT
DTSTART:20270314T080000
END:DAYLIGHT
BEGIN:STANDARD
TZOFFSETFROM:-0500
TZOFFSETTO:-0600
TZNAME:CST
DTSTART:20271107T070000
END:STANDARD
END:VTIMEZONE
BEGIN:VEVENT
DTSTART;TZID=America/Chicago:20260409T164500
DTEND;TZID=America/Chicago:20260409T181500
DTSTAMP:20260419T113003
CREATED:20260210T055130Z
LAST-MODIFIED:20260210T055130Z
UID:10001576-1775753100-1775758500@fivepointswashington.org
SUMMARY:Intro to Tumbling | April
DESCRIPTION:Intro to Tumbling with Greta\nApril 9-May 14\n\n\n\nAges 3-5: Thursdays\, 4:45-5:15 p.m.\nAges 6-9: Thursdays 5:30-6:15 p.m. \nPrice: $65 Members $70 Non-Members \n\n\n\n\nLocation: Upstairs Theater Hallway \n\n\n\nRegister HERE.\nThe class will be held in our upstairs theater hallway! Parents will drop their children off and then will wait in the lobby or workout. Bathrooms are right next to this space as well.  Please have your child dressed in moveable clothing! Shorts\, t-shirts or leotards. We prefer no shoes\, but it’s fine if your child wants to wear tennis shoes that won’t fall off. \n  \nIntroduce your child to the the basics of tumbling with Greta Hudson! Greta is a former competitive gymnast and after completing her degree in Kinesiology and Health Science\, she is excited to get back into teaching tumbling. In this class\, your child will learn new tumbling skills and work on improving the tumbling skills they already have. This class will not only be about tumbling\, but building up strength. Whether your child has never tumbled before or has some skills\, they will learn something new. \nSkills Learned: \n\nForward Rolls\nBackward Rolls\nHandstands\nCartwheels\nPlus more\n\n  \nRegister HERE.\n  \n \nMeet our instructor\, Greta!\nI grew up here in Washington and attended Bradley University to earn a degree in Kinesiology and Health Science. I am now on staff with a youth ministry called Young Life\, where I serve middle school and high school friends in Washington and across Central Illinois. \nI started gymnastics when I was 3-years-old and went on to compete for eight years. I coached recreational gymnastics classes for four years in high school and I am excited to jump back in! I love working with kids of all ages and I am eager to share my passion for the sport! \nQuestions? Contact Kids Clubhouse Lead Haley Walters haleyw@fivepointswashington.org
URL:https://fivepointswashington.org/event/intro-to-tumbling-april/
CATEGORIES:Youth Activity
ATTACH;FMTTYPE=image/jpeg:https://fivepointswashington.org/wp-content/uploads/2026/02/digital-Intro-to-Tumbling-Jan-2026-Flyer-1920-x-1080-px-4.jpg
END:VEVENT
BEGIN:VEVENT
DTSTART;TZID=America/Chicago:20260226T164500
DTEND;TZID=America/Chicago:20260226T181500
DTSTAMP:20260419T113003
CREATED:20260210T053530Z
LAST-MODIFIED:20260210T054026Z
UID:10001571-1772124300-1772129700@fivepointswashington.org
SUMMARY:Intro to Tumbling | February
DESCRIPTION:Intro to Tumbling with Greta\nFebruary 26-March 26 | Thursdays\n\n\n\nAges 3-5 | Thursdays\, 4:45-5:15 p.m.\nAges 6-9| Thursdays 5:30-6:15 p.m. \n\n\n\n\nLocation: Upstairs Theater Hallway\nPrice: $55 Members $60 Non-Members \n\n\n\nRegister HERE.\nThe class will be held in our upstairs theater hallway! Parents will drop their children off and then will wait in the lobby or workout. Bathrooms are right next to this space as well.  Please have your child dressed in moveable clothing! Shorts\, t-shirts or leotards. We prefer no shoes\, but it’s fine if your child wants to wear tennis shoes that won’t fall off. \n  \nIntroduce your child to the the basics of tumbling with Greta Hudson! Greta is a former competitive gymnast and after completing her degree in Kinesiology and Health Science\, she is excited to get back into teaching tumbling. In this class\, your child will learn new tumbling skills and work on improving the tumbling skills they already have. This class will not only be about tumbling\, but building up strength. Whether your child has never tumbled before or has some skills\, they will learn something new. \nSkills Learned: \n\nForward Rolls\nBackward Rolls\nHandstands\nCartwheels\nPlus more\n\n  \nRegister HERE.\n  \n \nMeet our instructor\, Greta!\nI grew up here in Washington and attended Bradley University to earn a degree in Kinesiology and Health Science. I am now on staff with a youth ministry called Young Life\, where I serve middle school and high school friends in Washington and across Central Illinois. \nI started gymnastics when I was 3-years-old and went on to compete for eight years. I coached recreational gymnastics classes for four years in high school and I am excited to jump back in! I love working with kids of all ages and I am eager to share my passion for the sport! \nQuestions? Contact Kids Clubhouse Lead Haley Walters haleyw@fivepointswashington.org
URL:https://fivepointswashington.org/event/intro-to-tumbling-february/
CATEGORIES:Youth Activity
ATTACH;FMTTYPE=image/jpeg:https://fivepointswashington.org/wp-content/uploads/2026/02/digital-Intro-to-Tumbling-Jan-2026-Flyer-1920-x-1080-px-3.jpg
END:VEVENT
END:VCALENDAR